BEGIN:VCALENDAR
PRODID:-//eluceo/ical//2.0/EN
VERSION:2.0
CALSCALE:GREGORIAN
BEGIN:VEVENT
UID:92419f7cce855b93bae9294223465d74
DTSTAMP:20260424T222515Z
SUMMARY:Freundschafts «Rotary-Abendessen/Dinner»
DESCRIPTION:Webseite: https://www.walliserhof-saasfee.ch/\nReferenten/innen
 : Freundschafts «Rotary-Abendessen/Dinner» Feines 3-Gang-Menu und tolle
  Gespräche erwarten\nDich. An/Abmeldung\nüber Polaris.\n\n 
URL:https://saastal.rotary1990.ch/de/agenda/show/211920
DTSTART;TZID=Europe/Zurich:20260414T183500
DTEND;TZID=Europe/Zurich:20260414T213500
LOCATION:https://www.walliserhof-saasfee.ch/
CATEGORIES:Rotary
END:VEVENT
BEGIN:VTIMEZONE
TZID:Europe/Zurich
BEGIN:DAYLIGHT
DTSTART:20260414T183500
TZNAME:CEST
TZOFFSETTO:+0200
TZOFFSETFROM:+0200
END:DAYLIGHT
END:VTIMEZONE
END:VCALENDAR
