BEGIN:VCALENDAR
PRODID:-//eluceo/ical//2.0/EN
VERSION:2.0
CALSCALE:GREGORIAN
BEGIN:VEVENT
UID:f686a233f6b5f4c135a920ce689e2fd7
DTSTAMP:20260424T222330Z
SUMMARY:Lockeres «Freundschaftsmeeting»
DESCRIPTION:Webseite: http://www.allalin.ch\nReferenten/innen: Lockeres «F
 reundschaftsmeeting»  im\nSinne der rotarischen Kameradschaft mitungezw
 ungenen Gesprächen aller Art.\nAn/Abmeldung über Polaris.
URL:https://saastal.rotary1990.ch/de/agenda/show/210374
DTSTART;TZID=Europe/Zurich:20260310T183500
DTEND;TZID=Europe/Zurich:20260310T183500
LOCATION:Hotel Allalin\, Lomattenstrasse 7\, 3906 Saas Fee
CATEGORIES:Rotary
END:VEVENT
BEGIN:VTIMEZONE
TZID:Europe/Zurich
BEGIN:STANDARD
DTSTART:20260310T183500
TZNAME:CET
TZOFFSETTO:+0100
TZOFFSETFROM:+0100
END:STANDARD
END:VTIMEZONE
END:VCALENDAR
