BEGIN:VCALENDAR
PRODID:-//eluceo/ical//2.0/EN
VERSION:2.0
CALSCALE:GREGORIAN
BEGIN:VEVENT
UID:e794da539751562e58cb6814980f6aea
DTSTAMP:20260424T234112Z
SUMMARY:«Sonnenaufgangsfahrt/VirtuAllalin»
DESCRIPTION:Referenten/innen: «Sonnenaufgangsfahrt/VirtuAllalin»  Ein E
 rlebnis der besonderen Art – gemäss separatem Programm – Partneranla
 ss - Erleben des neuen\nAngebots «Virtu-Allalin». (Rückkehr ins Dorf 
 bis 07.30 Uhr möglich). An/Abmeldung\nüber Polaris. Spezialpreis für 
 RotarierInnen: CHF 55.- alles inbegriffen (Ticket\,\nSonderfahrt\, Frühst
 ücksbuffet\, Eintritt VirtuAllalin). Wichtig: unbedingt Magic Pass od.\n
 SaastalCard (für Zweitheimische) mitnehmen!
URL:https://saastal.rotary1990.ch/de/agenda/show/200976
DTSTART;TZID=Europe/Zurich:20250812T051000
DTEND;TZID=Europe/Zurich:20250812T080000
LOCATION:Talstation Metro Alpin => Drehrestaurant
CATEGORIES:Rotary
END:VEVENT
BEGIN:VTIMEZONE
TZID:Europe/Zurich
BEGIN:DAYLIGHT
DTSTART:20250812T051000
TZNAME:CEST
TZOFFSETTO:+0200
TZOFFSETFROM:+0200
END:DAYLIGHT
END:VTIMEZONE
END:VCALENDAR
